Workbook

Sheet Activity Data v1 Jan 2026
A1: Activity Description | B1: Qty | C1: Daily hours | D1: Daily km | E1: Days on site | F1: Fuel /Energy / Materials | G1: Unit | H1: Scope 1 (t CO2-e) | I1: Scope 2 (t CO2-e) | J1: Scope 3 (t CO2-e) | K1: Assumptions
A2: Construction Materials | K2: Operated by a Subcontractor
A3: Concrete 260 m3 | B3: 260 | G3: m3 | J3: =B3*'[1]Emission Factors'!$C$14 -> 91 | K3: 260 m3 of 40MPa structural concrete. Factor: 0.35 tCO2-e/m3 (Source: ISCA Materials Calculator v2 / Green Star).
A4: 2 Steel Tanks, 120 t | B4: 240 | G4: t | J4: =B4*'[1]Emission Factors'!$C$15 -> 480 | K4: 2x 120t LNG Storage Tanks (240t total). Factor: 2.0 tCO2-e/t (Source: WorldSteel Association Global Average for Plate Steel).
A5: Compressor (60t), Pipework (60t) | B5: 120 | G5: t | J5: =B5*'[1]Emission Factors'!$C$15 -> 240 | K5: 60t Compressor Skid + 60t Stainless Pipework (120t total). Factor: 2.0 tCO2-e/t (Source: Engineering Estimate based on steel weight).
A6: Construction Equipment | K6: Operated by a Subcontractor
A7: Detailed earthworks | B7: 1 | C7: 8 | E7: 14 | F7: =(B7*C7*E7*'[1]Unit Conversions'!C8)/1000 -> 1.68 | G7: kL | J7: =F7*'[1]Unit Conversions'!$C$2*('[1]Emission Factors'!$C$2+'[1]Emission Factors'!$C$4)/1000 -> 5.6742 | K7: Diesel. 1x 20t Excavator (e.g. CAT 320D). Medium Load Factor (15 L/hr) per CAT Performance Handbook Ed 49. Duration: 14 days @ 8hrs/day.
A8: Civils – mini excavator | B8: 1 | C8: 4 | E8: 14 | F8: =(B8*C8*E8*'[1]Unit Conversions'!C8)/1000 -> 0.84 | G8: kL | J8: =F8*'[1]Unit Conversions'!$C$2*('[1]Emission Factors'!$C$2+'[1]Emission Factors'!$C$4)/1000 -> 2.8371 | K8: Diesel. 1x 5t Mini Excavator. Conservative estimate 15 L/hr (High Load). Duration: 14 days @ 4hrs/day.
A9: 150 tonne crane - 4 visits. Drive from Moranbah to site. On site 6 hours then de-mob | B9: 1 | C9: 6 | D9: 130 | E9: 4 | F9: =((B9*C9*E9*'[1]Unit Conversions'!C9)+(B9*D9*E9*'[1]Unit Conversions'!C11))/1000 -> 1.032 | G9: kL | J9: =F9*'[1]Unit Conversions'!$C$2*('[1]Emission Factors'!$C$2+'[1]Emission Factors'!$C$4)/1000 -> 3.48558 | K9: Diesel. Liebherr LTM 1150-6.1. Operation: 30 L/hr (Heavy Lift). Mobilisation: 130km return @ 0.6 L/km (Source: Liebherr Technical Data). 4 visits.
A10: Franna | B10: 1 | C10: 4 | D10: 130 | E10: 10 | F10: =((B10*C10*E10*'[1]Unit Conversions'!C8)+(B10*D10*E10*'[1]Unit Conversions'!C11))/1000 -> 1.38 | G10: kL | J10: =F10*'[1]Unit Conversions'!$C$2*('[1]Emission Factors'!$C$2+'[1]Emission Factors'!$C$4)/1000 -> 4.66095 | K10: Diesel. 25t Franna (Terex). Operation: 15 L/hr (Pick & Carry). Mobilisation: 130km return @ 0.6 L/km. 10 days.
A11: Vehicles (Light) - to and from Moranbah | B11: 3 | D11: 130 | E11: 90 | F11: =(B11*D11*E11*'[1]Unit Conversions'!C12)/1000 -> 4.212 | G11: kL | J11: =(F11*'[1]Unit Conversions'!$C$2*'[1]Emission Factors'!$C$3/1000)+F11*'[1]Unit Conversions'!$C$2*'[1]Emission Factors'!$C$4/1000 -> 14.22603 | K11: Diesel. 3x Toyota Landcruiser 70 Series. Fuel cons: 12L/100km (Source: Green Vehicle Guide). Daily commute Moranbah-Site (130km). Scope 1 (Company Fleet).
A12: Telehandler | B12: 1 | C12: 3 | E12: 90 | F12: =(B12*C12*E12*'[1]Unit Conversions'!C8)/1000 -> 4.05 | G12: kL | J12: =F12*'[1]Unit Conversions'!$C$2*('[1]Emission Factors'!$C$2+'[1]Emission Factors'!$C$4)/1000 -> 13.678875 | K12: Diesel. Manitou MT-X. Loading duty cycle: 3 hrs/day @ 15 L/hr (Source: OEM Spec).
A13: Transport of Modules | K13: Operated by a Subcontractor
A14: 12 x 40' modules on double trailers (6 x trucks) | B14: 6 | D14: 1000 | E14: 4.5 | F14: =(B14*D14*'[1]Unit Conversions'!C11)/1000 -> 3.6 | G14: kL | J14: =F14*'[1]Unit Conversions'!$C$2*('[1]Emission Factors'!$C$3+'[1]Emission Factors'!$C$4)/1000 -> 12.159 | K14: Diesel. 6x Prime Movers (B-Double equivalent). Payload: 2 modules/truck. Distance: 1000km (Brisbane-Site). Fuel: 0.6 L/km (Source: GreenTruck / AusRoads).
A15: Seafreight of 2 x 365kl tanks from China to Makay | B15: 240 | D15: 8300 | E15: 1 | F15: =B15*D15 -> 1992000 | G15: t.km | J15: =F15*'[1]Emission Factors'!$C$10/1000 -> 29.88 | K15: HFO. 2x 120t Tanks (240t). Route: Nantong (China) to Mackay. Distance: 8300km. Factor: 0.015 kgCO2/t.km (Source: DEFRA/IMO for General Cargo).
A16: Road freight tanks to site - 2 x semi's + 8 x escort vehicles | B16: 1 | D16: 260 | E16: 1 | F16: =(D16*((2*'[1]Unit Conversions'!C11)+(8*'[1]Unit Conversions'!$C$12)))/1000 -> 0.5616 | G16: kL | J16: =F16*'[1]Unit Conversions'!$C$2*('[1]Emission Factors'!$C$3+'[1]Emission Factors'!$C$4)/1000 -> 1.896804 | K16: Diesel. Convoy for Over-Dimensional Load. 2x Prime Movers (Pull/Push) @ 0.6 L/km + 8x Escort Vehicles @ 0.12 L/km. Distance: 260km.
A17: Seafreight compressor Canada to Makay | B17: 30 | D17: 12000 | E17: 1 | F17: =B17*D17 -> 360000 | G17: t.km | J17: =F17*'[1]Emission Factors'!$C$10/1000 -> 5.4 | K17: HFO. 30t Compressor Skid. Route: Vancouver (Canada) to Mackay. Distance: 12,000km. Factor: 0.015 kgCO2/t.km.
A18: Road freight compressor Makay to site (1 x semi, 4 x escorts) | B18: 1 | D18: 260 | E18: 1 | F18: =(D18*((1*'[1]Unit Conversions'!$C$11)+(4*'[1]Unit Conversions'!$C$12)))/1000 -> 0.2808 | G18: kL | J18: =F18*'[1]Unit Conversions'!$C$2*('[1]Emission Factors'!$C$3+'[1]Emission Factors'!$C$4)/1000 -> 0.948402 | K18: Diesel. Convoy. 1x Prime Mover @ 0.6 L/km + 4x Escorts @ 0.12 L/km. Distance: 260km.
A19: Other equipment 6 x 40' containers Brisbane to site. | B19: 6 | D19: 1200 | E19: 1 | F19: =(B19*D19*'[1]Unit Conversions'!C11)/1000 -> 4.32 | G19: kL | J19: =F19*'[1]Unit Conversions'!$C$2*('[1]Emission Factors'!$C$3+'[1]Emission Factors'!$C$4)/1000 -> 14.5908 | K19: Diesel. 6x Semi-Trailers (General Freight). Distance: 1200km (Brisbane/Gladstone supply base). Fuel: 0.6 L/km.
A20: Site Construction Generation | K20: Operated by CEFA
A21: 22 kVa generator for office & ablutions | B21: 1 | C21: 12 | E21: 90 | F21: =(B21*C21*E21*'[1]Unit Conversions'!C10)/1000 -> 10.8 | G21: kL | H21: =F21*'[1]Unit Conversions'!$C$2*'[1]Emission Factors'!$C$2/1000 -> 29.264976 | J21: =F21*'[1]Unit Conversions'!$C$2*'[1]Emission Factors'!$C$4/1000 -> 7.212024 | K21: Diesel. 22kVa Diesel Generator. Load: 50% (approx 10kW). Burn Rate: 10 L/hr. Operation: 12 hrs/day (Office/Ablutions). Scope 1.
A22: 11 kVa generator for Site power tools | B22: 1 | C22: 4 | E22: 90 | F22: =(B22*C22*E22*'[1]Unit Conversions'!$C$10)/1000 -> 3.6 | G22: kL | H22: =F22*'[1]Unit Conversions'!$C$2*'[1]Emission Factors'!$C$2/1000 -> 9.754992 | J22: =F22*'[1]Unit Conversions'!$C$2*'[1]Emission Factors'!$C$4/1000 -> 2.404008 | K22: Diesel. 11kVa Portable Generator. Load: Variable. Burn Rate: 10 L/hr (conservative). Operation: 4 hrs/day (Power tools). Scope 1.
A23: Commissioning | K23: Operated by CEFA
A24: Commissioning Gas Venting (CH4) - 365m3 x 2 tanks x 4 cycles to 100 kPa = 2 tonnes | B24: 2.2 | F24: =B24 -> 2.2 | G24: t | H24: =F24*'[1]Unit Conversions'!$C$6 -> 61.6 | K24: Source: Natural Gas. Direct Venting. Volume: 2 tonnes CH4. GWP: 28 (IPCC AR5). Source: Engineering Commissioning Plan.
A25: Other purging 200kg | B25: =200/1000 -> 0.2 | F25: =B25 -> 0.2 | G25: t | H25: =F25*'[1]Unit Conversions'!$C$6 -> 5.6 | K25: Source: Natural Gas. Minor purging allowance. Est: 200kg CH4. GWP: 28.
A26: Flare (Comm) | B26: 4 | C26: 4 | F26: =(B26*C26*(20/24))*'[1]Unit Conversions'!$C$3 -> 725.33333 | G26: GJ | H26: =F26*'[1]Emission Factors'!$C$7/1000 -> 37.376427 | K26: Natural Gas. Commissioning Flaring. 4 events x 4 hours. Flow: 20 tpd. Combustion Efficiency: 98% (Assumed 100% for CO2 calc).
A27: Operations | K27: Operated by CEFA Scope 1, 2, 3
A28: Flaring /upsets (pa) at 70 tpd flow rate | B28: 2 | C28: 8 | F28: =(B28*C28*(70/24))*'[1]Unit Conversions'!$C$3 -> 2538.6667 | G28: GJ | H28: =F28*'[1]Emission Factors'!$C$7/1000 -> 130.81749 | K28: Natural Gas. Operational Upset Allowance. 2 events/yr x 8 hrs. Flow: 70 tpd (Max design flow). Scope 1.
A29: Deliveries (upstream transport) | B29: 2 | D29: 900 | E29: 365 | F29: =(B29*D29*E29*'[1]Unit Conversions'!C11)/1000 -> 394.2 | G29: kL | J29: =F29*'[1]Unit Conversions'!$C$2*('[1]Emission Factors'!$C$3+'[1]Emission Factors'!$C$4)/1000 -> 1331.4105 | K29: Diesel. Consumables/Spares delivery. 2x Trucks/day. Route: Mackay-Site return (900km). Scope 3 (Cat 4).
A30: Rolleston Power generation: 100kVa gas set. | B30: 1 | C30: 8 | E30: 365 | F30: =((B30*C30*E30*80*3.6)/0.3)/1000 -> 2803.2 | G30: GJ | H30: =F30*'[1]Emission Factors'!$C$7/1000 -> 144.4489 | J30: =F30*'[1]Emission Factors'!$C$8/1000 -> 24.66816 | K30: Natural Gas. 100kVa Gas Generator. Load: 80kW. Thermal Eff: 30%. Fuel: Natural Gas. Scope 1.
A31: Site vehicles | B31: 3 | D31: 130 | E31: 365 | F31: =(B31*D31*E31*'[1]Unit Conversions'!C12)/1000 -> 17.082 | G31: kL | H31: =F31*'[1]Unit Conversions'!$C$2*'[1]Emission Factors'!$C$3/1000 -> 46.287437 | J31: =F31*'[1]Unit Conversions'!$C$2*'[1]Emission Factors'!$C$4/1000 -> 11.407018 | K31: Diesel. 3x Toyota Landcruisers. Daily site inspection + commute (130km). Scope 1.
A32: Site power requirements - 2.8MW x 24 x 365 = 24,528 MWHr pa | B32: 24528 | F32: =B32 -> 24528 | G32: MWh | I32: =F32*'[1]Emission Factors'!$C$5 -> 16433.76 | J32: =F32*'[1]Emission Factors'!$C$6 -> 2207.52 | K32: Grid Import. Load: 2.8MW Continuous. annual: 24,528 MWh. Factors: NGA 2025 QLD Grid (Scope 2+3).
A33: Venting (upsets, maintenance etc) | B33: 5.2 | F33: =B33 -> 5.2 | G33: t | H33: =F33*'[1]Unit Conversions'!$C$6 -> 145.6 | K33: Natural Gas. Operational Maintenance Venting. Est: 100kg/week = 5.2 tpa. GWP: 28. Scope 1.
A34: Decommissioning | K34: Scope 3 (Contractor)
A35: Site Generation (22 kVa) | B35: 1 | C35: 12 | E35: 14 | F35: =(B35*C35*E35*'[1]Unit Conversions'!C10)/1000 -> 1.68 | G35: kL | H35: =F35*'[1]Unit Conversions'!$C$2*'[1]Emission Factors'!$C$2/1000 -> 4.5523296 | J35: =F35*'[1]Unit Conversions'!$C$2*'[1]Emission Factors'!$C$4/1000 -> 1.1218704 | K35: Diesel. 22kVa Generator. Decommissioning phase power. 10 L/hr. Scope 1 (CEFA operated).
A36: Civils – Loader | B36: 1 | C36: 4 | E36: 7 | F36: =(B36*C36*E36*'[1]Unit Conversions'!C8)/1000 -> 0.42 | G36: kL | J36: =F36*'[1]Unit Conversions'!$C$2*('[1]Emission Factors'!$C$2+'[1]Emission Factors'!$C$4)/1000 -> 1.41855 | K36: Diesel. 1x Front End Loader. Site rehab works. 15 L/hr. Scope 3.
A37: 150 tonne crane - 4 visits. Drive from Moranbah to site. On site 6 hours then de-mob | B37: 1 | C37: 6 | D37: 130 | E37: 2 | F37: =((B37*C37*E37*'[1]Unit Conversions'!$C$9)+(B37*D37*E37*'[1]Unit Conversions'!$C$11))/1000 -> 0.516 | G37: kL | J37: =F37*'[1]Unit Conversions'!$C$2*('[1]Emission Factors'!$C$2+'[1]Emission Factors'!$C$4)/1000 -> 1.74279 | K37: Diesel. 150t Crane. Module removal. 30 L/hr + Mob. Scope 3.
A38: Franna | B38: 1 | C38: 4 | D38: 130 | E38: 4 | F38: =((B38*C38*E38*'[1]Unit Conversions'!$C$8)+(B38*D38*E38*'[1]Unit Conversions'!$C$11))/1000 -> 0.552 | G38: kL | J38: =F38*'[1]Unit Conversions'!$C$2*('[1]Emission Factors'!$C$2+'[1]Emission Factors'!$C$4)/1000 -> 1.86438 | K38: Diesel. 25t Franna. Light lifting. 15 L/hr. Scope 3.
A39: Vehicles - to and from Moranbah | B39: 2 | D39: 130 | E39: 14 | F39: =(B39*D39*E39*'[1]Unit Conversions'!$C$12)/1000 -> 0.4368 | G39: kL | J39: =(F39*'[1]Unit Conversions'!$C$2*'[1]Emission Factors'!$C$3/1000)+F39*'[1]Unit Conversions'!$C$2*'[1]Emission Factors'!$C$4/1000 -> 1.475292 | K39: Diesel
A40: Telehandler | B40: 1 | C40: 6 | E40: 14 | F40: =(B40*C40*E40*'[1]Unit Conversions'!$C$8)/1000 -> 1.26 | G40: kL | J40: =F40*'[1]Unit Conversions'!$C$2*('[1]Emission Factors'!$C$2+'[1]Emission Factors'!$C$4)/1000 -> 4.25565 | K40: Diesel. Waste loading. 15 L/hr. Scope 3.
A41: Transport to Brisbane?? Double A train semi's | B41: 12 | D41: 1200 | E41: 1 | F41: =(B41*D41*'[1]Unit Conversions'!$C$11)/1000 -> 8.64 | G41: kL | J41: =F41*'[1]Unit Conversions'!$C$2*('[1]Emission Factors'!$C$3+'[1]Emission Factors'!$C$4)/1000 -> 29.1816 | K41: Diesel. Return freight of modules. 12x Trucks x 1200km. Scope 3.
A42: TOTAL | H42: =SUM(H3:H41) -> 615.30255 | I42: =SUM(I3:I41) -> 16433.76 | J42: =SUM(J3:J41) -> 4546.1196

Sheet AdditionalDataRequest
A1: The information requested below is intended to support Clear Carbon’s estimation of Scope 1, Scope 2 and relevant Scope 3 greenhouse gas emissions for the proposed LNG facility, including confirmation of reporting boundaries, engineering assumptions, calculation methodologies, and the management pathway of each emission stream (e.g. vented, flared, combusted, recovered or otherwise managed).
A3: Ref | B3: Emission Source | C3: Information Required from CEFA | D3: Parameter / Input Required | E3: Quantity | F3: Units | G3: Existing Activity Data Assumptions (Feb 2026) / Notes | H3: Purpose
A4: III.a | B4: Scope 1 – Process venting | C4: Annual vented methane quantity | D4: Annual vented CH₄ quantity | F4: t CH₄/year | G4: Op. maintenance venting allowance estimated at 100kgCH₄/week = 5.2tCH₄/y | H4: Scope 1 venting emissions
C5: Venting frequency and duration | D5: Vent events / vent duration | F5: events/year or hrs/year | G5: Not separately defined | H5: Methodology support
C6: Venting source/process description | D6: Vent source description | F6: N/A | G6: Workbook references “upsets, maintenance etc” | H6: Scope completeness
C7: Calculation basis used for venting estimate | D7: Engineering basis / methodology | F7: N/A | G7: Current calculation uses methane mass basis | H7: Audit traceability
C8: Gas composition where venting estimated from gas volume | D8: CH₄ concentration | F8: % mol | G8: 95% methane, 5% Nitrogen based on gas supply samples and removal of CO2, water and oxygen. | H8: CO₂-e conversion
A9: III.b | B9: Scope 1 – Flaring | C9: Operational upset flare flow rate | D9: Flare gas flow rate | F9: t/day or GJ/hr | G9: Operational upset allowance assumes 70 tpd maximum design flare flow | H9: Scope 1 flare emissions
C10: Annual flare operating duration | D10: Annual flare duration | F10: hrs/year | G10: 5 days/year × 24 hrs = 350 tonnes/year (maintenance & trips) | H10: Scope 1 flare emissions
C11: Flare destruction efficiency | D11: Destruction efficiency | F11: % | G11: 98% combustion efficiency assumption based on flare data sheet. | H11: Scope 1 flare emissions
C12: Flare gas composition or confirmation of natural gas basis | D12: CH₄ concentration / gas basis | F12: % mol or N/A | G12: Not provided | H12: CO₂-e conversion
A13: III.c | B13: Scope 1 – Gas-fired generation | C13: Onsite gas generation inclusion within current reporting boundary | D13: Included in current scope? | F13: Yes/No | G13: Section 6.6 references future expansion | H13: Boundary confirmation
C14: Installed generator capacity | D14: Generator capacity | F14: MW or kVA | G14: 2 x 2MW gas generators ( MTU 16V4000) | H14: Scope 1 combustion
C15: Expected operating profile | D15: Operating hours | F15: hrs/year | G15: 1.2MW (one engine), 24 hrs/day, 360 days/year | H15: Fuel estimation
C16: Annual natural gas consumption | D16: Annual gas consumption | F16: GJ/year | G16: Estimated at 2,803.2 GJ/year | H16: Scope 1 combustion
A17: III.d | B17: Scope 1 – Fugitive emissions | C17: Fugitive emission source applicability | D17: Fugitive source applicability | F17: Yes/No | G17: Yes | H17: Scope completeness
C18: Indicative valves/flanges inventory | D18: Valves / flanges inventory | F18: count | G18: Primarily from inlet compressor and MR compressor - Refer emmissions spreadsheet. | H18: Scope 1 fugitive emissions
C19: Indicative seals/pumps inventory | D19: Seals / pumps inventory | F19: count | G19: Not provided | H19: Scope 1 fugitive emissions
C20: Piping/connectors subject to fugitive losses | D20: Piping / connectors inventory | F20: count and/or m | G20: Not provided | H20: Scope 1 fugitive emissions
C21: Fugitive estimation methodology | D21: Fugitive methodology / assumptions | F21: N/A | G21: Not provided | H21: Methodology support
A22: III.e | B22: Scope 1 – Process emissions | C22: Process vent sources | D22: Process vent inventory | F22: N/A | G22: No separate process vent inventory identified - Refer emissions spreadsheet. | H22: Scope completeness
C23: Annual CO₂ vented from process systems | D23: CO₂ vent quantity | F23: t CO₂/year | G23: CO2 is 1% of gas supply which is all removed and vented. 70*365*.01 = 255 tpa. | H23: Scope 1 process emissions
A24: III.f | B24: Scope 1 – LNG storage / BOG | C24: BOG generation applicability | D24: BOG applicability | F24: Yes/No | G24: not applicable. All BOG is returned to the inlet of the plant including excess BOG from customer sites. | H24: Scope completeness
C25: BOG generation rate | D25: BOG generation rate | F25: % loss or kg/day | G25: Not provided | H25: BOG emissions estimate
C26: LNG storage duration | D26: Storage residence time | F26: days | G26: Not provided | H26: BOG estimation
C27: BOG management pathway | D27: Recovery/recompression/flare/vent pathway | F27: N/A | G27: Not provided | H27: Net BOG emissions
A28: III.g | B28: Scope 1 – LNG loading | C28: Source applicability | D28: Applicability | F28: Yes/No | G28: Not Applicable. Dry break couplings are used. Any LNG in the pipework returns to the tank or BOG system. | H28: Scope completeness
C29: Annual LNG loading frequency | D29: Tanker loading frequency | F29: loads/year | G29: Not provided | H29: Loading emissions
C30: Annual LNG throughput | D30: LNG throughput | F30: t/year | G30: Not provided | H30: Loading emissions
C31: LNG transfer/loading losses | D31: Transfer loss rate | F31: % | G31: Not provided | H31: Loading emissions
C32: LNG loading loss management pathway | D32: Vented/flared/recovered/recompressed pathway | F32: N/A | G32: Not provided | H32: Determines Scope 1 treatment
A33: IV | B33: Scope 2 – Grid electricity | C33: Expected continuous electrical demand | D33: Continuous electrical load | F33: MW | G33: Continuous operational demand assumed at 1.9 MW, 360 days pa. | H33: Scope 2 emissions
C34: Annual electricity consumption | D34: Annual electricity consumption | F34: MWh/year | G34: Calculated as 24,528 MWh/year based on continuous load | H34: Scope 2 emissions
C35: Operating profile | D35: Operating hours | F35: hrs/year | G35: Implied continuous operation (24 × 360) 5 days down time pa. | H35: Electricity reconciliation
C36: Utilisation/load factor | D36: Load factor / utilisation | F36: % | G36: Not separately provided | H36: Electricity reconciliation
A37: VII | B37: Scope 3 – Downstream LNG use | C37: Expected annual LNG production | D37: LNG production | F37: t/year | G37: 70 tonnes per day, 360 days pa. | H37: Scope 3 downstream combustion
C38: LNG energy content | D38: LNG energy content | F38: GJ/t LNG | G38: 50.4 | H38: Scope 3 combustion
C39: LNG transport mode | D39: Transport mode | F39: N/A | G39: Transported in double A road trains, 30 tonnes per truck, approx 2 trucks per day. | H39: Scope 3 transport
C40: Downstream transport distance | D40: Transport distance | F40: km | G40: 880km round trip per truck. | H40: Scope 3 transport
C41: Expected downstream LNG application | D41: End-use profile | F41: N/A | G41: Initialy, 100% of the gas gas is supplied to pipeline operators who supply gas to customers throughout the east coast of Australia. The intention is to transition up to 80% of the fuel to displace diesel for power generation throughout rural Queensland. | H41: Scope 3 downstream use

Sheet Conversions
A1: Parameter / conversion | B1: Value | C1: Units | D1: Source | E1: Use in workbook
A2: Production and power generation operating days | B2: 360 | C2: days/year | D2: Operating assumption changed to 360 days pa | E2: Annualisation of production, grid electricity & operating plant emissions
A3: Hours per day | B3: 24 | C3: hours/day | D3: 24 hours per day | E3: Operating hours calculation
A4: Weeks in 360 days | B4: =B2/7 -> 51.428571 | C4: weeks/360 days | D4: 51.43 weeks in 360 days | E4: Operational flare emissions
A5: Methane density at 1atm (101.325kPa aprox) at 0C | B5: 0.7168 | C5: kg/m3 | D5: https://www.engineeringtoolbox.com/methane-density-specific-weight-temperature-pressure-d_2020.html?utm_s | E5: Scope 1 commissioning venting
A6: Commissioning methane (CH4) venting | B6: =365*2*4*B5/1000 -> 2.093056 | C6: t CH4 | D6: 365m3 × 2 tanks × 4 cycles to 100 kPa | E6: Scope 1 commissioning venting
A7: Commissioning flare gas energy | B7: =4*4*20/24 -> 13.333333 | C7: t flare gas/year | D7: 4 events × 4 hours × 20 tpd basis | E7: Scope 1 commissioning flare
A8: Maintenance and trip days directed to flare | B8: 5 | C8: days/year | D8: 5 days pa for maintenance and trips would direct all gas to flare | E8: Scope 1 operational flare emissions
A9: 1kWh | B9: 0.0036 | C9: GJ | D9: https://www.iea.org/data-and-statistics/data-tools/unit-converter?utm | E9: Scope 1 operational flare emissions
A10: Operational upset flare flow rate | B10: 70 | C10: t gas/day | D10: III.b: operational upset allowance assumes 70 tpd maximum design flare flow | E10: Scope 1 operational flare emissions
A11: Methane concentration in gas | B11: 0.95 | C11: fraction | D11: III.a: 95% methane, 5% nitrogen | E11: Flaring and venting gas composition
A12: Flare destruction / combustion efficiency | B12: 0.98 | C12: fraction | D12: III.b: 98% combustion efficiency | E12: Operational flare split into combusted CH4 and CH4 slip
A13: Operational maintenance venting allowance | B13: =100*B4/1000 -> 5.1428571 | C13: t CH4/year | D13: III.a: 100 kg CH4/week = 5.14 t CH4/year | E13: Scope 1 operational process venting
A14: Inlet compressor CH4 stream | B14: 0.11 | C14: t CH4/day | D14: Table 1, INLET COMPRESSOR - JGK, waste stream composition CH4, rate 0.11 tpd | E14: Scope 1 fugitive/process methane stream
A15: Amine still CO2 vent | B15: 0.7 | C15: t CO2/day | D15: Table 1, AMINE STILL COLUMN, waste stream 1% CO2 in gas supply, rate 0.7 tpd | E15: Scope 1 process CO2 vent
A16: Gas-fired generation fuel use | B16: 1000 | C16: kW | D16: 2 x 2MW gas generators ( MTU 16V4000) 1MW (one engine), 24 hrs/day, 360 days/year | E16: Scope 1 onsite gas-fired generation and Scope 3 upstream fuel
A17: Gas-fired generation fuel use | B17: =B3*B2 -> 8640 | C17: hours/year | D17: 1MW (one engine), 24 hrs/day, 360 days/year | E17: Scope 1 onsite gas-fired generation and Scope 3 upstream fuel
A18: Gas-fired generation fuel use | B18: 977 | C18: kW | D18: MTU datasheet | E18: Scope 1 onsite gas-fired generation and Scope 3 upstream fuel
A19: Gas-fired generation fuel use | B19: 2381 | C19: kW fuel input | D19: MTU datasheet | E19: Scope 1 onsite gas-fired generation and Scope 3 upstream fuel
A20: Gas-fired generation fuel use | B20: 1466 | C20: kW | D20: MTU datasheet | E20: Scope 1 onsite gas-fired generation and Scope 3 upstream fuel
A21: Gas-fired generation fuel use | B21: 3418 | C21: kW fuel input | D21: MTU datasheet | E21: Scope 1 onsite gas-fired generation and Scope 3 upstream fuel
A22: Gas-fired generation fuel use | B22: =B19+(B16-B18)*(B21-B19)/(B20-B18) -> 2429.7751 | C22: kW fuel input | D22: MTU datasheet =, extrapolations for 1000kW (1MW) | E22: Scope 1 onsite gas-fired generation and Scope 3 upstream fuel
A23: Site vehicle diesel | B23: =3*130*360*B28/1000 -> 16.848 | C23: kL/year | D23: 3x Toyota Landcruisers. Daily site inspection + commute (130km) | E23: Scope 1 site vehicles and Scope 3 upstream diesel
A24: Excavator / Loader | B24: 15 | C24: L/hr | D24: CAT Performance Handbook (Medium Load) | E24: Scope 1 site vehicles and Scope 3 upstream diesel
A25: Crane (150t) | B25: 30 | C25: L/hr | D25: Liebherr Technical Data (Heavy Lift) | E25: Scope 1 site vehicles and Scope 3 upstream diesel
A26: Generator (Small) | B26: 10 | C26: L/hr | D26: 50% Load Factor on 22kVa set | E26: Scope 1 site vehicles and Scope 3 upstream diesel
A27: Heavy Truck (Semi) | B27: 0.6 | C27: L/km | D27: Prime Mover (B-Double equivalent) | E27: Scope 1 site vehicles and Scope 3 upstream diesel
A28: Light Vehicle (Escort/Ute) | B28: 0.12 | C28: L/km | D28: 4WD Diesel Utility | E28: Scope 1 site vehicles and Scope 3 upstream diesel
A29: LNG Energy | B29: 54.4 | C29: Energy Content of LNG | D29: GJ / tonne
A30: Continuous grid electricity demand | B30: 1.8 | C30: MW | D30: Continuous operational demand assumed at 1.8 MW, 360 days pa | E30: Scope 2 grid electricity
A31: Diesel black-start generator load | B31: 300 | C31: kW | D31: User-provided context: diesel generation only required for black starts at 300 kW | E31: Diesel black-start calculation
A32: Black-start duration | B32: 10 | C32: minutes/event | D32: User-provided context: 10 minutes per black start | E32: Diesel black-start calculation
A33: Black-start events | B33: 12 | C33: events/year | D33: User-provided context: 12 times pa | E33: Diesel black-start calculation
A34: Diesel energy content | B34: 38.6 | C34: GJ/kL | D34: Diesel Energy Content 38.6 GJ/kL (NGA 2025) | E34: Diesel litres/kL to GJ conversion
A35: LNG production rate | B35: 70 | C35: t LNG/day | D35: Scope 3 downstream LNG use: 70 tonnes per day, 360 days pa | E35: Scope 3 use of sold products
A36: LNG energy content selected for DETSI calculation | B36: 50.4 | C36: GJ/t LNG | D36: VII: LNG energy content 50.4 GJ/t LNG | E36: Scope 3 use of sold products
A37: Alternative LNG energy content in Unit Conversions sheet | B37: 54.4 | C37: GJ/t LNG | D37: Unit Conversions sheet: LNG Energy Content 54.4 GJ/t | E37: QA check only
A38: Downstream LNG transport trucks | B38: 2 | C38: trucks/day | D38: approx 2 trucks per day | E38: Scope 3 Category 9 downstream transport
A39: Downstream truck round trip distance | B39: 880 | C39: km/truck | D39: 880 km round trip per truck | E39: Scope 3 Category 9 downstream transport
A40: Heavy truck fuel consumption | B40: 0.6 | C40: L/km | D40: Heavy Truck (Semi), 0.6 L/km | E40: Scope 3 Category 9 and Category 4 road freight
A41: Light vehicle fuel consumption | B41: 0.12 | C41: L/km | D41: Light Vehicle (Escort/Ute), 0.12 L/km | E41: Construction freight escort vehicle calculations
... A47: Steel in compressor skid and pipework | B47: 120 | C47: t steel | D47: Compressor skid and pipework | E47: Scope 3 Category 2 construction materials

Sheet Emission Factors
A1: Emission factor / parameter | B1: Value | C1: Units | D1: Use in workbook | E1: URL or attached file reference
A2: Methane GWP | B2: 28 | C2: tCO2-e/t CH4 | D2: Vented methane and uncombusted methane slip | E2: https://www.dcceew.gov.au/sites/default/files/documents/national-greenhouse-account-factors-2025.pdf
A3: Natural gas combustion | B3: 51.53 | C3: kg CO2-e/GJ | D3: Gas-fired generation, commissioning flare, LNG combustion | E3: https://www.dcceew.gov.au/sites/default/files/documents/national-greenhouse-account-factors-2025.pdf
A4: Natural gas upstream | B4: 8.8 | C4: kg CO2-e/GJ | D4: Scope 3 upstream natural gas fuel cycle | E4: https://www.dcceew.gov.au/sites/default/files/documents/national-greenhouse-account-factors-2025.pdf
A5: Queensland grid electricity Scope 2 | B5: 0.67 | C5: tCO2-e/MWh | D5: Scope 2 purchased electricity | E5: https://www.dcceew.gov.au/sites/default/files/documents/national-greenhouse-account-factors-2025.pdf
A6: Queensland grid electricity Scope 3 | B6: 0.09 | C6: kg CO2-e/kWh | D6: Scope 3 upstream electricity | E6: https://www.dcceew.gov.au/sites/default/files/documents/national-greenhouse-account-factors-2025.pdf
A7: Diesel combustion | B7: 70.2 | C7: kg CO2-e/GJ | D7: Diesel vehicles, construction equipment and diesel black-start generator | E7: https://www.dcceew.gov.au/sites/default/files/documents/national-greenhouse-account-factors-2025.pdf
A8: Diesel upstream | B8: 17.3 | C8: kg CO2-e/GJ | D8: Scope 3 upstream diesel fuel cycle | E8: https://www.dcceew.gov.au/sites/default/files/documents/national-greenhouse-account-factors-2025.pdf
A9: CH4 to CO2 stoichiometric conversion | B9: =44/16 -> 2.75 | C9: t CO2/t CH4 | D9: Flare combusted methane to CO2 | E9: Standard stoichiometric conversion
A10: Shipping - general cargo / tanker average | B10: 0.015 | C10: kg CO2-e/t.km | D10: Scope 3 upstream transport by sea
A11: Domestic passenger flight | B11: 0.16 | C11: kg CO2-e/p.km | D11: Scope 3 construction travel where included in workbook
A12: Concrete embodied emissions | B12: 0.35 | C12: tCO2-e/m3 | D12: Scope 3 Category 2 capital goods / 40MPa structural concrete | E12: ISCA Materials Calculator v2 / Green Star
A13: Steel embodied emissions | B13: 2 | C13: tCO2-e/tonne | D13: Scope 3 Category 2 capital goods / plate steel | E13: WorldSteel Association Global Average for Plate Steel
A14: KTA50-G3 fuel consumption at 25% load | B14: 76 | C14: L/h | D14: Diesel black-start lower-bound check only
A15: KTA50-G3 fuel consumption at 50% load | B15: 139 | C15: L/h | D15: Diesel black-start conservative calculation

Sheet GHG Calculations
A1: CEFA QLD LNG Project
A3: Summary item | C3: Total (tCO2-e) | D3: Notes
A4: Scope 1 operational | C4: =SUMIFS($M:$M,$A:$A,"Scope 1",$C:$C,"Operational") -> 6527.9112 | D4: Recurring operational emissions only.
A5: Scope 1 commissioning | C5: =SUMIFS($M:$M,$A:$A,"Scope 1",$C:$C,"Commissioning") -> 99.835568 | D5: One-off commissioning emissions, shown separately.
A6: Scope 2 | C6: =SUMIFS($M:$M,$A:$A,"Scope 2") -> 10419.84 | D6: Revised using 1.8MW × 24 hr/day × 360 days. QLD grid
A7: Scope 3 | C7: =SUMIFS($M:$M,$A:$A,"Scope 3") -> 70331.376 | D7: Includes calculable categories only (i.e., 2, 3, 4, 9 & 11)
A8: Total excluding commissioning | C8: =C4+C6+C7 -> 87279.127 | D8: Operational Scope 1 + Scope 2 + Scope 3
A9: Total including commissioning | C9: =C8+C5 -> 87378.963 | D9: Operational total plus one-off commissioning emissions
A11: Scope | B11: GHG Protocol category / source type | C11: Phase | D11: Activity accounted for | E11: Activity / input 1 | F11: Unit 1 | G11: Activity / input 2 | H11: Unit 2 | I11: Activity / input 3 | J11: Unit 3 | K11: Activity / input 4 | L11: Unit 4 | M11: Emissions (tCO2-e) | N11: Comments
A12: Scope 1 | B12: Commissioning venting | C12: Commissioning | D12: CH4 venting | E12: =Conversions!$B$6 -> 2.093056 | F12: t CH4 | G12: ='Emission Factors'!$B$2 -> 28 | H12: tCO2-e/t CH4 | M12: =E12*G12 -> 58.605568 | N12: Initial estimations, commissioning calculation 365 m3 × 2 tanks × 4 cycles
A13: Scope 1 | B13: Commissioning flaring | C13: Commissioning | D13: CO2 from combusted methane | E13: =Conversions!B7 -> 13.333333 | F13: t flare gas/year | G13: =Conversions!$B$11*Conversions!$B$12 -> 0.931 | H13: combusted CH4 fraction | I13: ='Emission Factors'!$B$9 -> 2.75 | J13: t CO2/t CH4 | M13: =E13*G13*I13 -> 34.136667 | N13: Initial estimations, recalculated: 4 events, 4 hours/event, 20 tpd, 95% CH4 , 98% combustion efficiency
A14: Scope 1 | B14: Commissioning flaring | C14: Commissioning | D14: Uncombusted CH4 slip | E14: =Conversions!B7 -> 13.333333 | F14: t flare gas/year | G14: =Conversions!$B$11*(1-Conversions!$B$12) -> 0.019 | H14: uncombusted CH4 fraction | I14: ='Emission Factors'!$B$2 -> 28 | J14: tCO2-e/t CH4 | M14: =E14*G14*I14 -> 7.0933333 | N14: Initial estimations, recalculated: CH4 slip from 2% uncombusted
A15: Scope 1 | B15: Process CO2 venting | C15: Operational | D15: Amine still CO2 vent | E15: =Conversions!$B$15 -> 0.7 | F15: t CO2/day | G15: =Conversions!$B$2 -> 360 | H15: days/year | M15: =E15*G15 -> 252 | N15: AMINE STILL COLUMN. Annualised over 360 operating days.
A16: Scope 1 | B16: Fugitive/process CH4 stream | C16: Operational | D16: Inlet compressor CH4 stream | E16: =Conversions!$B$14 -> 0.11 | F16: t CH4/day | G16: =Conversions!$B$2 -> 360 | H16: days/year | I16: ='Emission Factors'!$B$2 -> 28 | J16: tCO2-e/t CH4 | M16: =E16*G16*I16 -> 1108.8 | N16: INLET COMPRESSOR - JGK; NGA Factors 2025 methane GWP
A17: Scope 1 | B17: Process venting / Maintenance | C17: Operational | D17: Operational maintenance venting allowance | E17: =Conversions!$B$13 -> 5.1428571 | F17: t CH4/year | I17: ='Emission Factors'!$B$2 -> 28 | J17: tCO2-e/t CH4 | M17: =E17*I17 -> 144 | N17: Initial estimations, recalculated for 360 days
A18: Scope 1 | B18: Flaring | C18: Operational | D18: Operational flare - CO2 from combusted methane | E18: =Conversions!$B$10*Conversions!$B$8 -> 350 | F18: t flare gas/year | G18: =Conversions!$B$11*Conversions!$B$12 -> 0.931 | H18: combusted CH4 fraction | I18: ='Emission Factors'!$B$9 -> 2.75 | J18: t CO2/t CH4 | M18: =E18*G18*I18 -> 896.0875 | N18: Updated estimations, 70 t/day × 5 days, 95% CH4, 98% destruction efficiency
A19: Scope 1 | B19: Flaring | C19: Operational | D19: Operational flare - uncombusted CH4 slip | E19: =Conversions!$B$10*Conversions!$B$8 -> 350 | F19: t flare gas/year | G19: =Conversions!$B$11*(1-Conversions!$B$12) -> 0.019 | H19: uncombusted CH4 fraction | I19: ='Emission Factors'!$B$2 -> 28 | J19: tCO2-e/t CH4 | M19: =E19*G19*I19 -> 186.2 | N19: Updated estimations, methane slip from 98% destruction efficiency
A20: Scope 1 | B20: Gas-fired electricity generation | C20: Operational | D20: Onsite gas-fired electricity generation (1MW) | E20: =1*Conversions!B3 -> 24 | F20: MWh/day | G20: =Conversions!$B$2 -> 360 | H20: days/year | I20: ='Emission Factors'!$B$3 -> 51.53 | J20: kgCO2-e/GJ | K20: 1000 | L20: kg/t | M20: =E20*G20*I20*Conversions!B22*Conversions!B9/K20 -> 3894.417 | N20: Updated estimations: 1MW, natural gas combustion factor from NGA Factors 2025
A21: Scope 1 | B21: Mobile combustion | C21: Operational | D21: Site vehicles | E21: =Conversions!$B$23 -> 16.848 | F21: kL diesel/year | G21: =Conversions!$B$34 -> 38.6 | H21: GJ/kL | I21: ='Emission Factors'!$B$7 -> 70.2 | J21: kgCO2-e/GJ | K21: 1000 | L21: kg/t | M21: =E21*G21*I21/K21 -> 45.653363 | N21: Initial estimations, Site vehicles: 3x Toyota Landcruisers. Daily site inspection + commute (130km)
A22: Scope 1 | B22: Diesel black-start generation | C22: Operational | D22: Diesel black-start generator - conservative 50% load fuel rate | E22: =Conversions!$B$33*Conversions!$B$32/60 -> 2 | F22: hours/year | G22: ='Emission Factors'!$B$15 -> 139 | H22: L/h | I22: ='Emission Factors'!$B$7*Conversions!$B$34/1000 -> 2.70972 | J22: kgCO2-e/L | K22: 1000 | L22: kg/t | M22: =E22*G22*I22/K22 -> 0.75330216 | N22: 300 kW for 10 minutes, 12 times pa; Clarke Energy PWR Hybrid.pdf KTA50-G3 fuel consumption 50% load. Exact 300 kW fuel rate not provided
A23: Scope 1 | B23: BOG | C23: Operational | D23: Boil-off gas (BOG) losses | F23: N/A | N23: All BOG returned to inlet of plant including excess BOG from customer sites.
A24: Scope 1 | B24: LNG loading/storage handling | C24: Operational | D24: LNG loading/ storage losses | F24: N/A | N24: Dry-break couplings used; any LNG in pipework returns to tank or BOG system.
A25: Scope 2 | B25: Purchased electricity | C25: Operational | D25: Grid electricity (1.8MW) | E25: =Conversions!$B$30*Conversions!$B$3*Conversions!$B$2 -> 15552 | F25: MWh/year | G25: ='Emission Factors'!$B$5 -> 0.67 | H25: kCO2-e/kWh | M25: =E25*G25 -> 10419.84 | N25: Updated Emissions: 1.8MW continous, 360 days; Queensland factor 0.67 tCO2-e/MWh
A26: Scope 3 | B26: Category 2 - Capital goods | C26: Construction | D26: Concrete foundations | E26: =Conversions!$B$45 -> 260 | F26: m3 | G26: ='Emission Factors'!$B$12 -> 0.35 | H26: tCO2-e/m3 | M26: =E26*G26 -> 91 | N26: Initial estimations; GHG Protocol Scope 3 Category 2
A27: Scope 3 | B27: Category 2 - Capital goods | C27: Construction | D27: LNG storage tanks - embodied steel | E27: =Conversions!$B$46 -> 240 | F27: t steel | G27: ='Emission Factors'!$B$13 -> 2 | H27: tCO2-e/t steel | M27: =E27*G27 -> 480 | N27: Initial estimations; GHG Protocol Scope 3 Category 2
A28: Scope 3 | B28: Category 2 - Capital goods | C28: Construction | D28: Compressor skid and pipework - embodied steel | E28: =Conversions!$B$47 -> 120 | F28: t steel | G28: ='Emission Factors'!$B$13 -> 2 | H28: tCO2-e/t steel | M28: =E28*G28 -> 240 | N28: Initial estimations; GHG Protocol Scope 3 Category 2
A29: Scope 3 | B29: Category 3 - Fuel- and energy-related activities | C29: Operational | D29: Upstream electricity from grid electricity (1.8MW) | E29: =E25 -> 15552 | F29: MWh/year | G29: ='Emission Factors'!$B$6 -> 0.09 | H29: kCO2-e/kWh | M29: =E29*G29 -> 1399.68 | N29: NGA Factors 2025; GHG Protocol Category 3
A30: Scope 3 | B30: Category 3 - Fuel- and energy-related activities | C30: Operational | D30: Upstream diesel for site vehicles | E30: =Conversions!$B$23 -> 16.848 | F30: kL/year | G30: =Conversions!$B$34 -> 38.6 | H30: GJ/kL | I30: ='Emission Factors'!$B$8 -> 17.3 | J30: kgCO2-e/GJ | K30: 1000 | L30: kg/t | M30: =E30*G30*I30/K30 -> 11.250757 | N30: NGA Factors 2025; GHG Protocol Category 3
A31: Scope 3 | B31: Category 3 - Fuel- and energy-related activities | C31: Operational | D31: Upstream diesel for black-start generator | E31: =Conversions!$B$33*Conversions!$B$32/60 -> 2 | F31: hours/year | G31: ='Emission Factors'!$B$15/1000 -> 0.139 | H31: kL/h | I31: =Conversions!$B$34 -> 38.6 | J31: GJ/kL | K31: ='Emission Factors'!$B$8/1000 -> 0.0173 | L31: tCO2-e/GJ | M31: =E31*G31*I31*K31 -> 0.18564284 | N31: Clarke Energy PWR Hybrid.pdf KTA50 50% load fuel consumption; NGA Factors 2025; GHG Protocol Category 3
A32: Scope 3 | B32: Category 4 - Upstream transportation and distribution | C32: Construction | D32: Road freight - 12 x 40 ft modules on double trailers | E32: 6 | F32: trucks | G32: 1000 | H32: km | I32: =Conversions!$B$40 -> 0.6 | J32: L/km | K32: =Conversions!$B$34*('Emission Factors'!$B$7+'Emission Factors'!$B$8)/1000 -> 3.3775 | L32: tCO2-e/kL | M32: =E32*G32*I32/1000*K32 -> 12.159 | N32: Initial estimations; GHG Protocol Category 4
A33: Scope 3 | B33: Category 4 - Upstream transportation and distribution | C33: Construction | D33: Sea freight - 2 x 365 kL tanks from China to Mackay | E33: 240 | F33: t | G33: 8300 | H33: km | I33: ='Emission Factors'!$B$10 -> 0.015 | J33: kgCO2-e/t.km | K33: 1000 | L33: kg/t | M33: =E33*G33*I33/K33 -> 29.88 | N33: Initial estimations; GHG Protocol Category 4
A34: Scope 3 | B34: Category 4 - Upstream transportation and distribution | C34: Construction | D34: Road freight - tanks to site with escorts | E34: 260 | F34: km | G34: =(2*Conversions!$B$40+8*Conversions!$B$41) -> 2.16 | H34: L/km convoy | I34: =Conversions!$B$34*('Emission Factors'!$B$7+'Emission Factors'!$B$8)/1000 -> 3.3775 | J34: tCO2-e/kL | M34: =E34*G34/1000*I34 -> 1.896804 | N34: Initial estimations; GHG Protocol Category 4
A35: Scope 3 | B35: Category 4 - Upstream transportation and distribution | C35: Construction | D35: Sea freight - compressor Canada to Mackay | E35: 30 | F35: t | G35: 12000 | H35: km | I35: ='Emission Factors'!$B$10 -> 0.015 | J35: kgCO2-e/t.km | K35: 1000 | L35: kg/t | M35: =E35*G35*I35/K35 -> 5.4 | N35: Initial estimations; GHG Protocol Category 4
A36: Scope 3 | B36: Category 4 - Upstream transportation and distribution | C36: Construction | D36: Road freight - compressor Mackay to site with escorts | E36: 260 | F36: km | G36: =(1*Conversions!$B$40+4*Conversions!$B$41) -> 1.08 | H36: L/km convoy | I36: =Conversions!$B$34*('Emission Factors'!$B$7+'Emission Factors'!$B$8)/1000 -> 3.3775 | J36: tCO2-e/kL | M36: =E36*G36/1000*I36 -> 0.948402 | N36: Initial estimations; GHG Protocol Category 4
A37: Scope 3 | B37: Category 4 - Upstream transportation and distribution | C37: Construction | D37: Road freight - other equipment containers Brisbane to site | E37: 6 | F37: trailers | G37: 1200 | H37: km | I37: =Conversions!$B$40 -> 0.6 | J37: L/km | K37: =Conversions!$B$34*('Emission Factors'!$B$7+'Emission Factors'!$B$8)/1000 -> 3.3775 | L37: tCO2-e/kL | M37: =E37*G37*I37/1000*K37 -> 14.5908 | N37: Initial estimations; GHG Protocol Category 4
A38: Scope 3 | B38: Category 4 - Upstream transportation and distribution | C38: Operational | D38: Consumables/spares deliveries | E38: 2 | F38: trucks/day | G38: 900 | H38: km return | I38: =Conversions!$B$2 -> 360 | J38: days/year | K38: =Conversions!$B$40*Conversions!$B$34*('Emission Factors'!$B$7+'Emission Factors'!$B$8)/1000000 -> 0.0020265 | L38: tCO2-e/truck-km | M38: =E38*G38*I38*K38 -> 1313.172 | N38: Initial estimations; GHG Protocol Category 4
A39: Scope 3 | B39: Category 9 - Downstream transportation and distribution | C39: Operational | D39: Downstream LNG road transport to customers | E39: =Conversions!$B$38 -> 2 | F39: trucks/day | G39: =Conversions!$B$39 -> 880 | H39: km/truck | I39: =Conversions!$B$2 -> 360 | J39: days/year | K39: =Conversions!$B$40*Conversions!$B$34*('Emission Factors'!$B$7+'Emission Factors'!$B$8)/1000000 -> 0.0020265 | L39: tCO2-e/truck-km | M39: =E39*G39*I39*K39 -> 1283.9904 | N39: GHG Protocol Category 9
A40: Scope 3 | B40: Category 11 - Use of sold products | C40: Operational | D40: End-use combustion of LNG sold | E40: =Conversions!$B$35*Conversions!$B$2 -> 25200 | F40: t LNG/year | G40: =Conversions!$B$36 -> 50.4 | H40: GJ/t LNG | I40: ='Emission Factors'!$B$3 -> 51.53 | J40: kgCO2-e/GJ | K40: 1000 | L40: kg/t | M40: =E40*G40*I40/K40 -> 65447.222 | N40: NGA Factors 2025; GHG Protocol Category 11
A42: Boundary, data-quality and unresolved items
A43: Only values directly traceable to uploaded documents, client comments, or official GHG/NGA sources are used.
A44: Diesel black-start emissions use the documented KTA50-G3 50% load fuel consumption as a conservative documented value
A45: Electricity demand scenario: 1MW from gas generation+ 1.8MW from grid
A46: Scope 3 Category 11 uses 50.4 GJ/t LNG from AdditionalDataRequest. The Unit Conversions sheet contains 54.4 GJ/t and is included as a QA check but not used in the primary calculation.
